BEGIN:VCALENDAR
VERSION:2.0
PRODID:-//Superclassics - ECPv6.2.9//NONSGML v1.0//EN
CALSCALE:GREGORIAN
METHOD:PUBLISH
X-WR-CALNAME:Superclassics
X-ORIGINAL-URL:https://superclassics.eu
X-WR-CALDESC:Events for Superclassics
REFRESH-INTERVAL;VALUE=DURATION:PT1H
X-Robots-Tag:noindex
X-PUBLISHED-TTL:PT1H
BEGIN:VTIMEZONE
TZID:Europe/Berlin
BEGIN:DAYLIGHT
TZOFFSETFROM:+0100
TZOFFSETTO:+0200
TZNAME:CEST
DTSTART:20260329T010000
END:DAYLIGHT
BEGIN:STANDARD
TZOFFSETFROM:+0200
TZOFFSETTO:+0100
TZNAME:CET
DTSTART:20261025T010000
END:STANDARD
TZID:Europe/Budapest
BEGIN:DAYLIGHT
TZOFFSETFROM:+0100
TZOFFSETTO:+0200
TZNAME:CEST
DTSTART:20260329T010000
END:DAYLIGHT
BEGIN:STANDARD
TZOFFSETFROM:+0200
TZOFFSETTO:+0100
TZNAME:CET
DTSTART:20261025T010000
END:STANDARD
END:VTIMEZONE
BEGIN:VEVENT
DTSTART;VALUE=DATE:20260418
DTEND;VALUE=DATE:20260420
DTSTAMP:20260419T160717
CREATED:20211101T230000Z
LAST-MODIFIED:20250822T053659Z
UID:104030-1776470400-1776643199@superclassics.eu
SUMMARY:Goodwood Members' Meeting
DESCRIPTION:Thrilling motor racing\, high-speed track demonstrations and fun-packed festivities make for a sensational weekend. Uncrowded\, intimate and access-all-areas\, Members’ Meeting is exclusively open to members and fellows of the Goodwood Road Racing Club.
URL:https://superclassics.eu/event/goodwood-members-meeting/
LOCATION:Goodwood Motor Circuit\, Goodwood\, Chichester\, West Sussex\, PO18 0PH
CATEGORIES:Festival,United Kingdom
ATTACH;FMTTYPE=image/jpeg:https://superclassics.eu/wp-content/uploads/2021/11/events-1920.jpg
END:VEVENT
BEGIN:VEVENT
DTSTART;VALUE=DATE:20260418
DTEND;VALUE=DATE:20260420
DTSTAMP:20260419T160717
CREATED:20211101T230000Z
LAST-MODIFIED:20260109T085306Z
UID:31164-1776470400-1776643199@superclassics.eu
SUMMARY:Budapest Oldtimer Show
DESCRIPTION:Antique cars and motorbikes\, known as trademarks of the Oldtimer Show\, will continue to be on display this year. In the outer areas of the large park\, we’re exhibiting U.S. big cars. Once again there will be caravan exhibition and terrain rally racing cars. The“Food-TruckCaravan” in the asphalted main street will be a novelty in the field of hospitality. In the spirit of traditionalism\, there will again be a “Backyard and Craft Fair “.  From the producers you will be able to buy directly the home made sausages\, cheese\, honey\, jam\, spices\, etc… There will be freshly baked chimney cakes\, craft beer\, wine and “pálinka”. In the chop house\, situated in Water Tower Park\, you will be able to buy also pork-toting dishes\, along with many other home-cooked dishes: stuffed cabbage\, fried sausage\, ham etc…
URL:https://superclassics.eu/event/budapest-oldtimer-show/
LOCATION:Hungarian Railway History Park\, Tatai út 95\, Budapest\, 1142\, Hungary
CATEGORIES:Exhibition
ATTACH;FMTTYPE=image/jpeg:https://superclassics.eu/wp-content/uploads/2021/11/events-1920.jpg
END:VEVENT
END:VCALENDAR